BEGIN:VCALENDAR
VERSION:2.0
BEGIN:VEVENT
DTSTART:2021-09-22T19:30+01:00
DTEND:2021-09-22T21:00+01:00
SUMMARY:September - Zoom Fostering Information Session
DESCRIPTION:
LOCATION:Location A, Taunton, Somerset, United Kingdom, BA12 4HD
END:VEVENT
END:VCALENDAR
